BEGIN:VCALENDAR
VERSION:2.0
PRODID:Events Booking
BEGIN:VEVENT
UID:69ea7f9c6b274
SUMMARY:JCA Open Day
DESCRIPTION:
LOCATION:Virtual
DTSTART:20240207T080000Z
DTEND:20240207T090000Z
DTSTAMP:20240130T201930Z
ORGANIZER;CN=Transport Forum:MAILTO:info@transportsig.com
END:VEVENT
END:VCALENDAR