BEGIN:VCALENDAR
VERSION:2.0
PRODID:Events Booking
BEGIN:VEVENT
UID:69eab53dd8824
SUMMARY:ll Key Operational\, Safety & Management Elements in LNG Terminal O
 perations
DESCRIPTION:
LOCATION:Durban
DTSTART:20231121T060000Z
DTEND:20231124T140000Z
DTSTAMP:20230628T183053Z
ORGANIZER;CN=Transport Forum:MAILTO:info@transportsig.com
END:VEVENT
END:VCALENDAR