BEGIN:VCALENDAR
VERSION:2.0
PRODID:Events Booking
BEGIN:VEVENT
UID:69e99b4b44d5f
SUMMARY:LOGISTICS WORKSHOPS
DESCRIPTION:
LOCATION:Virtual
DTSTART:20250305T063000Z
DTEND:20250305T120000Z
DTSTAMP:20250130T221848Z
ORGANIZER;CN=Transport Forum:MAILTO:info@transportsig.com
END:VEVENT
END:VCALENDAR