BEGIN:VCALENDAR
VERSION:2.0
PRODID:Events Booking
BEGIN:VEVENT
UID:69e99b4ab92cb
SUMMARY:LOGISTICS WORKSHOPS
DESCRIPTION:
LOCATION:Virtual
DTSTART:20250312T063000Z
DTEND:20250313T120000Z
DTSTAMP:20250130T222302Z
ORGANIZER;CN=Transport Forum:MAILTO:info@transportsig.com
END:VEVENT
END:VCALENDAR