BEGIN:VCALENDAR
VERSION:2.0
PRODID:Events Booking
BEGIN:VEVENT
UID:69e99b4a3dfe3
SUMMARY:Logistics workshops
DESCRIPTION:
LOCATION:Virtual
DTSTART:20250327T070000Z
DTEND:20250327T100000Z
DTSTAMP:20250130T222617Z
ORGANIZER;CN=Transport Forum:MAILTO:info@transportsig.com
END:VEVENT
END:VCALENDAR