BEGIN:VCALENDAR
VERSION:2.0
PRODID:Events Booking
BEGIN:VEVENT
UID:69e9ad05e3180
SUMMARY:Logistics workshops
DESCRIPTION:
LOCATION:Virtual
DTSTART:20250218T063000Z
DTEND:20250219T113000Z
DTSTAMP:20250130T221435Z
ORGANIZER;CN=Transport Forum:MAILTO:info@transportsig.com
END:VEVENT
END:VCALENDAR