BEGIN:VCALENDAR
VERSION:2.0
PRODID:Events Booking
BEGIN:VEVENT
UID:69ea92c1e51d7
SUMMARY:MARITIME WEEK AFRICA 2024 - CAPE TOWN
DESCRIPTION:
LOCATION:Cape Town\, South Africa 
DTSTART:20240123T060000Z
DTEND:20240124T220000Z
DTSTAMP:20231115T203042Z
ORGANIZER;CN=Transport Forum:MAILTO:info@transportsig.com
END:VEVENT
END:VCALENDAR