BEGIN:VCALENDAR
VERSION:2.0
PRODID:Events Booking
BEGIN:VEVENT
UID:69e9ad056c8b1
SUMMARY:Mining Indaba 2025
DESCRIPTION:
LOCATION:Cape Town
DTSTART:20250203T134500Z
DTEND:20250203T140500Z
DTSTAMP:20250130T231346Z
ORGANIZER;CN=Transport Forum:MAILTO:info@transportsig.com
END:VEVENT
END:VCALENDAR