BEGIN:VCALENDAR
VERSION:2.0
PRODID:Events Booking
BEGIN:VEVENT
UID:69e8bfea86291
SUMMARY:NATIONAL TRANSPORT CONFERENCE 
DESCRIPTION:
LOCATION:19 Richards Dr\, Halfway House\, Midrand\, 1685
DTSTART:20260316T063000Z
DTEND:20260318T150000Z
DTSTAMP:20260312T183340Z
ORGANIZER;CN=Transport Forum:MAILTO:info@transportsig.com
END:VEVENT
END:VCALENDAR