BEGIN:VCALENDAR
VERSION:2.0
PRODID:Events Booking
BEGIN:VEVENT
UID:69eab5a296242
SUMMARY:Oil & Gas Marine Terminals Maintenance\, Operations\, management an
 d Safety 
DESCRIPTION:
LOCATION:Durban
DTSTART:20231120T060000Z
DTEND:20231124T143000Z
DTSTAMP:20230628T200903Z
ORGANIZER;CN=Transport Forum:MAILTO:info@transportsig.com
END:VEVENT
END:VCALENDAR