BEGIN:VCALENDAR
VERSION:2.0
PRODID:Events Booking
BEGIN:VEVENT
UID:69e90be4cf21c
SUMMARY:Ports & Rail Week 2025
DESCRIPTION:
LOCATION:Aha Gateway Hotel\, Durban
DTSTART:20251125T060000Z
DTEND:20251126T150000Z
DTSTAMP:20251015T063958Z
ORGANIZER;CN=Transport Forum:MAILTO:info@transportsig.com
END:VEVENT
END:VCALENDAR