BEGIN:VCALENDAR
VERSION:2.0
PRODID:Events Booking
BEGIN:VEVENT
UID:69e92dc952c7a
SUMMARY:Ports & Rail Week: Networking
DESCRIPTION:
LOCATION:Coastlands Umhlanga Hotel & Convention Centre
DTSTART:20261124T060000Z
DTEND:20261125T150000Z
DTSTAMP:20260323T043025Z
ORGANIZER;CN=Transport Forum:MAILTO:info@transportsig.com
END:VEVENT
END:VCALENDAR