BEGIN:VCALENDAR
VERSION:2.0
PRODID:Events Booking
BEGIN:VEVENT
UID:69e90d9ba7a32
SUMMARY:Pre G20 Summit - CRA and SAPICS Risk Briefing Webinar
DESCRIPTION:
LOCATION:Webinar
DTSTART:20251112T120000Z
DTEND:20251112T130000Z
DTSTAMP:20251030T155323Z
ORGANIZER;CN=Transport Forum:MAILTO:info@transportsig.com
END:VEVENT
END:VCALENDAR