BEGIN:VCALENDAR
VERSION:2.0
PRODID:Events Booking
BEGIN:VEVENT
UID:69e8bfcecb82e
SUMMARY:RFA: Case Preparation
DESCRIPTION:
LOCATION:Johannesburg
DTSTART:20260319T220000Z
DTEND:20260319T220000Z
DTSTAMP:20260312T182132Z
ORGANIZER;CN=Transport Forum:MAILTO:info@transportsig.com
END:VEVENT
END:VCALENDAR