BEGIN:VCALENDAR
VERSION:2.0
PRODID:Events Booking
BEGIN:VEVENT
UID:69e8bfb2cc48d
SUMMARY:RFA Convention 
DESCRIPTION:
LOCATION:The Capital\, Zimbali Hotel
DTSTART:20260529T053000Z
DTEND:20260531T150000Z
DTSTAMP:20260219T181754Z
ORGANIZER;CN=Transport Forum:MAILTO:info@transportsig.com
END:VEVENT
END:VCALENDAR