BEGIN:VCALENDAR
VERSION:2.0
PRODID:Events Booking
BEGIN:VEVENT
UID:69e9788fe101d
SUMMARY:RFA Convention 2025
DESCRIPTION:
LOCATION:\,Central Drakensbert\, KwaZulu Natal 23 - 25 May 2025 Highlights 
 from 2024  Special thank you to our 2024 sponsors Dont miss out Join our m
 ailing list Full Name Name Email Email  Send
DTSTART:20250523T050000Z
DTEND:20250525T170000Z
DTSTAMP:20250114T073244Z
ORGANIZER;CN=Transport Forum:MAILTO:info@transportsig.com
END:VEVENT
END:VCALENDAR