BEGIN:VCALENDAR
VERSION:2.0
PRODID:Events Booking
BEGIN:VEVENT
UID:69e9ad0740de6
SUMMARY:RFA: New Labour Law Changes Webinar
DESCRIPTION:
LOCATION:Webinar
DTSTART:20250218T060000Z
DTEND:20250218T130000Z
DTSTAMP:20250130T233432Z
ORGANIZER;CN=Transport Forum:MAILTO:info@transportsig.com
END:VEVENT
END:VCALENDAR