BEGIN:VCALENDAR
VERSION:2.0
PRODID:Events Booking
BEGIN:VEVENT
UID:69e98971def15
SUMMARY:RFI - Online Clarification Session
DESCRIPTION:
LOCATION:Webinar
DTSTART:20250424T100000Z
DTEND:20250424T120000Z
DTSTAMP:20250422T060952Z
ORGANIZER;CN=Transport Forum:MAILTO:info@transportsig.com
END:VEVENT
END:VCALENDAR