BEGIN:VCALENDAR
VERSION:2.0
PRODID:Events Booking
BEGIN:VEVENT
UID:69e93f4c1bd30
SUMMARY:Rights and Obligations: Customs and Excise Act
DESCRIPTION:
LOCATION:ABSA Capital\, 15 Alice Lane\, Sandton
DTSTART:20250811T123000Z
DTEND:20250811T150000Z
DTSTAMP:20250729T082110Z
ORGANIZER;CN=Transport Forum:MAILTO:info@transportsig.com
GEO:0;15
X-APPLE-STRUCTURED-LOCATION;VALUE=URI;X-ADDRESS=ABSA Capital\, 15 Alice Lan
 e\, Sandton;X-APPLE-RADIUS=72;X-TITLE=ABSA Capital\, Sandton:0;15
END:VEVENT
END:VCALENDAR