BEGIN:VCALENDAR
VERSION:2.0
PRODID:Events Booking
BEGIN:VEVENT
UID:69e90cc86e1db
SUMMARY:Road Safety in a New Era Summit 2026: Update
DESCRIPTION:
LOCATION:64 Jones Rd\, Kempton Park\, Johannesburg\, 1620
DTSTART:20251118T060000Z
DTEND:20251119T150000Z
DTSTAMP:20251030T144814Z
ORGANIZER;CN=Transport Forum:MAILTO:info@transportsig.com
END:VEVENT
END:VCALENDAR