BEGIN:VCALENDAR
VERSION:2.0
PRODID:Events Booking
BEGIN:VEVENT
UID:69ea816982537
SUMMARY:Road Traffic and Transport Legislation Update 9
DESCRIPTION:
LOCATION:Umhalanga
DTSTART:20240208T060000Z
DTEND:20240208T150000Z
DTSTAMP:20231214T041228Z
ORGANIZER;CN=Transport Forum:MAILTO:info@transportsig.com
END:VEVENT
END:VCALENDAR