BEGIN:VCALENDAR
VERSION:2.0
PRODID:Events Booking
BEGIN:VEVENT
UID:69ea818862a0d
SUMMARY:Road Traffic and Transport Legislation Update 9
DESCRIPTION:
LOCATION:Pretoria
DTSTART:20240213T060000Z
DTEND:20240213T140000Z
DTSTAMP:20231214T041535Z
ORGANIZER;CN=Transport Forum:MAILTO:info@transportsig.com
END:VEVENT
END:VCALENDAR