BEGIN:VCALENDAR
VERSION:2.0
PRODID:Events Booking
BEGIN:VEVENT
UID:69ea8188174e0
SUMMARY:Road Traffic and Transport Legislation Update 9
DESCRIPTION:
LOCATION:Webinar
DTSTART:20240216T060000Z
DTEND:20240216T140000Z
DTSTAMP:20231214T041824Z
ORGANIZER;CN=Transport Forum:MAILTO:info@transportsig.com
END:VEVENT
END:VCALENDAR