BEGIN:VCALENDAR
VERSION:2.0
PRODID:Events Booking
BEGIN:VEVENT
UID:69e9797f724e4
SUMMARY:Road Traffic and Transport Legislation Update 9.  Exemption
DESCRIPTION:
LOCATION:Umhalanga
DTSTART:20250515T060000Z
DTEND:20250515T150000Z
DTSTAMP:20241212T061153Z
ORGANIZER;CN=Transport Forum:MAILTO:info@transportsig.com
END:VEVENT
END:VCALENDAR