BEGIN:VCALENDAR
VERSION:2.0
PRODID:Events Booking
BEGIN:VEVENT
UID:69e9797e71b53
SUMMARY:Road Traffic and Transport Legislation Update 9.  Exemption 
DESCRIPTION:
LOCATION:Pretoria
DTSTART:20250520T060000Z
DTEND:20250519T220000Z
DTSTAMP:20241212T061342Z
ORGANIZER;CN=Transport Forum:MAILTO:info@transportsig.com
END:VEVENT
END:VCALENDAR