BEGIN:VCALENDAR
VERSION:2.0
PRODID:Events Booking
BEGIN:VEVENT
UID:69e9797e31978
SUMMARY:Road Traffic and Transport Legislation Update 9.  Exemption 
DESCRIPTION:
LOCATION:Webinar
DTSTART:20250522T060000Z
DTEND:20250522T150000Z
DTSTAMP:20241212T061629Z
ORGANIZER;CN=Transport Forum:MAILTO:info@transportsig.com
END:VEVENT
END:VCALENDAR