BEGIN:VCALENDAR
VERSION:2.0
PRODID:Events Booking
BEGIN:VEVENT
UID:69e9797fed1c8
SUMMARY:Road Traffic and Transport Legislation Update 9.  Exemption
DESCRIPTION:
LOCATION:Stellenbosch
DTSTART:20250513T060000Z
DTEND:20250513T150000Z
DTSTAMP:20241212T060646Z
ORGANIZER;CN=Transport Forum:MAILTO:info@transportsig.com
END:VEVENT
END:VCALENDAR