BEGIN:VCALENDAR
VERSION:2.0
PRODID:Events Booking
BEGIN:VEVENT
UID:69ea8169e43c9
SUMMARY:Road Traffic and Transport Legislation Update 9
DESCRIPTION:
LOCATION:Durbanville (Cape town)
DTSTART:20240206T060000Z
DTEND:20240206T150000Z
DTSTAMP:20231214T040655Z
ORGANIZER;CN=Transport Forum:MAILTO:info@transportsig.com
END:VEVENT
END:VCALENDAR