BEGIN:VCALENDAR
VERSION:2.0
PRODID:Events Booking
BEGIN:VEVENT
UID:69e9ade932ef7
SUMMARY:12 February 2025 - RTMS: Driving Industry Standards to Reduce Risk 
 and Secure Compliance
DESCRIPTION:&nbsp\;
 &nbsp\;
DTSTART:20250212T070000Z
DTEND:20250212T130000Z
DTSTAMP:20241205T045548Z
ORGANIZER;CN=Transport Forum:MAILTO:info@transportsig.com
END:VEVENT
END:VCALENDAR