BEGIN:VCALENDAR
VERSION:2.0
PRODID:Events Booking
BEGIN:VEVENT
UID:69e951a7be0a5
SUMMARY:RTMS Internal Auditor Training
DESCRIPTION:
LOCATION:Webinar
DTSTART:20250722T070000Z
DTEND:20250722T140000Z
DTSTAMP:20250630T135328Z
ORGANIZER;CN=Transport Forum:MAILTO:info@transportsig.com
END:VEVENT
END:VCALENDAR