BEGIN:VCALENDAR
VERSION:2.0
PRODID:Events Booking
BEGIN:VEVENT
UID:69e8bfa0d5ac9
SUMMARY: SAAFF NPC
DESCRIPTION:
LOCATION:MS Teams
DTSTART:20260326T090000Z
DTEND:20260326T110000Z
DTSTAMP:20260326T163947Z
ORGANIZER;CN=Transport Forum:MAILTO:info@transportsig.com
END:VEVENT
END:VCALENDAR