BEGIN:VCALENDAR
VERSION:2.0
PRODID:Events Booking
BEGIN:VEVENT
UID:69ea12de019dd
SUMMARY:SABOA  Annual Conference 
DESCRIPTION:
LOCATION:Setperk Road\, Randpark\, Randburg\, Johannesburg
DTSTART:20240815T043000Z
DTEND:20240815T143000Z
DTSTAMP:20240730T154122Z
ORGANIZER;CN=Transport Forum:MAILTO:info@transportsig.com
END:VEVENT
END:VCALENDAR