BEGIN:VCALENDAR
VERSION:2.0
PRODID:Events Booking
BEGIN:VEVENT
UID:69e93f7682b32
SUMMARY:27-28 August 2025 - SABOA annual conference 2025
DESCRIPTION:
LOCATION:120 Western Service Road Woodmead\, Sandton\, Johannesburg
DTSTART:20250827T060000Z
DTEND:20250828T140000Z
DTSTAMP:20250609T085429Z
ORGANIZER;CN=Transport Forum:MAILTO:info@transportsig.com
END:VEVENT
END:VCALENDAR