BEGIN:VCALENDAR
VERSION:2.0
PRODID:Events Booking
BEGIN:VEVENT
UID:69e8bfce6458a
SUMMARY:SAOGA at DEVAC INFRASTRUCTURE SUMMIT
DESCRIPTION:
LOCATION:NH Sandton Hotel\, Johannesburg 
DTSTART:20260527T053000Z
DTEND:20260528T150000Z
DTSTAMP:20260312T185027Z
ORGANIZER;CN=Transport Forum:MAILTO:info@transportsig.com
END:VEVENT
END:VCALENDAR