BEGIN:VCALENDAR
VERSION:2.0
PRODID:Events Booking
BEGIN:VEVENT
UID:69e967be9aea9
SUMMARY:SAOGA Free - UPRD Act Draft Regulations Panel Discussion Onlin
DESCRIPTION:
LOCATION:Online Panel Discussion
DTSTART:20250605T063000Z
DTEND:20250605T100000Z
DTSTAMP:20250605T145949Z
ORGANIZER;CN=Transport Forum:MAILTO:info@transportsig.com
END:VEVENT
END:VCALENDAR