BEGIN:VCALENDAR
VERSION:2.0
PRODID:Events Booking
BEGIN:VEVENT
UID:69e91cd606e9f
SUMMARY:SAOGA: International Commodity Summit 2025 - CTICC
DESCRIPTION:
LOCATION:CTICC\, Cape Town
DTSTART:20251217T060000Z
DTEND:20251120T150000Z
DTSTAMP:20251030T143858Z
ORGANIZER;CN=Transport Forum:MAILTO:info@transportsig.com
END:VEVENT
END:VCALENDAR