BEGIN:VCALENDAR
VERSION:2.0
PRODID:Events Booking
BEGIN:VEVENT
UID:69ea818f0a4c9
SUMMARY:SAOGA Networking Breakfast on the Namibia & South Africa frontier
DESCRIPTION:
LOCATION:Welgelegen
DTSTART:20240229T060000Z
DTEND:20240229T090000Z
DTSTAMP:20240219T070132Z
ORGANIZER;CN=Transport Forum:MAILTO:info@transportsig.com
END:VEVENT
END:VCALENDAR