BEGIN:VCALENDAR
VERSION:2.0
PRODID:Events Booking
BEGIN:VEVENT
UID:69e8afd13aa72
SUMMARY:SAOGA Networking Breakfast
DESCRIPTION:
LOCATION:Encore Restaurant & Conference Centre
DTSTART:20260430T060000Z
DTEND:20260430T090000Z
DTSTAMP:20260414T153816Z
ORGANIZER;CN=Transport Forum:MAILTO:info@transportsig.com
END:VEVENT
END:VCALENDAR