BEGIN:VCALENDAR
VERSION:2.0
PRODID:Events Booking
BEGIN:VEVENT
UID:69e8e8aa31fbd
SUMMARY:SAOGA - SSAS Application Callout - Manufacturing Indaba Conference
DESCRIPTION:
LOCATION:Sandton Convention Centre\, Johannesburg
DTSTART:20260714T060000Z
DTEND:20260715T150000Z
DTSTAMP:20260414T174304Z
ORGANIZER;CN=Transport Forum:MAILTO:info@transportsig.com
END:VEVENT
END:VCALENDAR