BEGIN:VCALENDAR
VERSION:2.0
PRODID:Events Booking
BEGIN:VEVENT
UID:69e8e7d99b6e3
SUMMARY:SAPICS 48th Conference
DESCRIPTION:
LOCATION:Century City\, Cape Town
DTSTART:20260719T050000Z
DTEND:20260722T150000Z
DTSTAMP:20260115T025833Z
ORGANIZER;CN=Transport Forum:MAILTO:info@transportsig.com
END:VEVENT
END:VCALENDAR