BEGIN:VCALENDAR
VERSION:2.0
PRODID:Events Booking
BEGIN:VEVENT
UID:69e90b116a67e
SUMMARY:SAPICS Annual Golf Day
DESCRIPTION:
LOCATION:Modderfontein Golf Course
DTSTART:20251121T040000Z
DTEND:20251121T170000Z
DTSTAMP:20250811T065438Z
ORGANIZER;CN=Transport Forum:MAILTO:info@transportsig.com
END:VEVENT
END:VCALENDAR