BEGIN:VCALENDAR
VERSION:2.0
PRODID:Events Booking
BEGIN:VEVENT
UID:69e8bfb307f9f
SUMMARY: SAPICS DDI Workshop
DESCRIPTION:
LOCATION:Webinar
DTSTART:20260309T053000Z
DTEND:20260312T150000Z
DTSTAMP:20260201T002424Z
ORGANIZER;CN=Transport Forum:MAILTO:info@transportsig.com
END:VEVENT
END:VCALENDAR