BEGIN:VCALENDAR
VERSION:2.0
PRODID:Events Booking
BEGIN:VEVENT
UID:69ea2b06d4091
SUMMARY:SAPICS is a proud partner of the Africa Supply Chain Excellence Awa
 rds
DESCRIPTION:
LOCATION:Pretoria
DTSTART:20260819T130000Z
DTEND:20260819T200000Z
DTSTAMP:20260318T074058Z
ORGANIZER;CN=Transport Forum:MAILTO:info@transportsig.com
END:VEVENT
END:VCALENDAR