BEGIN:VCALENDAR
VERSION:2.0
PRODID:Events Booking
BEGIN:VEVENT
UID:69e90b75d1af2
SUMMARY:SAPICS Partner Event | 2025 POMS
DESCRIPTION:
LOCATION:Future Africa Campus\,University of Pretoria\,
DTSTART:20251126T060000Z
DTEND:20251127T220000Z
DTSTAMP:20251030T151904Z
ORGANIZER;CN=Transport Forum:MAILTO:info@transportsig.com
END:VEVENT
END:VCALENDAR