BEGIN:VCALENDAR
VERSION:2.0
PRODID:Events Booking
BEGIN:VEVENT
UID:69e92e77b18df
SUMMARY:SAPICS Partner | Save Big on Shipping with Supply Chain Now
DESCRIPTION:
LOCATION:Webinar
DTSTART:20250917T100000Z
DTEND:20250917T143000Z
DTSTAMP:20250916T155849Z
ORGANIZER;CN=Transport Forum:MAILTO:info@transportsig.com
END:VEVENT
END:VCALENDAR