BEGIN:VCALENDAR
VERSION:2.0
PRODID:Events Booking
BEGIN:VEVENT
UID:69e90ce763701
SUMMARY:SARF Northern Region Annual General Meeting (AGM)
DESCRIPTION:
LOCATION:Specialized Coating Systems (Pty) 
DTSTART:20251106T060000Z
DTEND:20251106T150000Z
DTSTAMP:20251030T154702Z
ORGANIZER;CN=Transport Forum:MAILTO:info@transportsig.com
END:VEVENT
END:VCALENDAR