BEGIN:VCALENDAR
VERSION:2.0
PRODID:Events Booking
BEGIN:VEVENT
UID:69e9794d04618
SUMMARY:SMA Breakfast: Press Release: Smarter Mobility Africa
DESCRIPTION:
LOCATION:CTICC\, Cape Town
DTSTART:20250521T060000Z
DTEND:20250521T080000Z
DTSTAMP:20250520T095611Z
ORGANIZER;CN=Transport Forum:MAILTO:info@transportsig.com
END:VEVENT
END:VCALENDAR