BEGIN:VCALENDAR
VERSION:2.0
PRODID:Events Booking
BEGIN:VEVENT
UID:69e9f32feb70c
SUMMARY:Smarter Mobility Africa
DESCRIPTION:
LOCATION:19 Richards Dr\, Halfway House\, Midrand\, 1685
DTSTART:20241002T053000Z
DTEND:20241004T150000Z
DTSTAMP:20240726T052043Z
ORGANIZER;CN=Transport Forum:MAILTO:info@transportsig.com
END:VEVENT
END:VCALENDAR