BEGIN:VCALENDAR
VERSION:2.0
PRODID:Events Booking
BEGIN:VEVENT
UID:69ea7fb5bd75a
SUMMARY:Solar Power Africa
DESCRIPTION:
LOCATION:Cape Town\, South Africa 
DTSTART:20240207T060000Z
DTEND:20240209T140000Z
DTSTAMP:20240130T200115Z
ORGANIZER;CN=Transport Forum:MAILTO:info@transportsig.com
END:VEVENT
END:VCALENDAR