BEGIN:VCALENDAR
VERSION:2.0
PRODID:Events Booking
BEGIN:VEVENT
UID:69ea3a6983f55
SUMMARY:South African Road Federation (SARF)
DESCRIPTION:
LOCATION:Virtual
DTSTART:20240618T060000Z
DTEND:20240618T143000Z
DTSTAMP:20240614T165402Z
ORGANIZER;CN=Transport Forum:MAILTO:info@transportsig.com
END:VEVENT
END:VCALENDAR